BEGIN:VCALENDAR
VERSION:2.0
PRODID:-//Tukios.com/
BEGIN:VEVENT
UID:df4217ee-a3c8-4ab9-b9ce-ac2ce2a18071@www.boronfuneralhome.com
DTSTAMP:20260423T195814Z
DTSTART:20260427T220000Z
DTEND:20260428T000000Z
SUMMARY:Visitation
DESCRIPTION:
URL:https://www.boronfuneralhome.com/obituaries/zola-kern
LOCATION: 1719 Brownsville Rd  Pittsburgh PA 15210
GEO:40.3979117;-79.9879509
END:VEVENT
END:VCALENDAR