BEGIN:VCALENDAR
VERSION:2.0
PRODID:-//Tukios.com/
BEGIN:VEVENT
UID:9659fd82-38f5-4cc0-9398-8484d1415d61@www.boronfuneralhome.com
DTSTAMP:20260423T200400Z
DTSTART:20260427T180000Z
DTEND:20260427T200000Z
SUMMARY:Public Viewing
DESCRIPTION:
URL:https://www.boronfuneralhome.com/obituaries/zola-kern
LOCATION: 1719 Brownsville Road  Pittsburgh PA 15210
GEO:40.3979117;-79.9879509
END:VEVENT
END:VCALENDAR