BEGIN:VCALENDAR
VERSION:2.0
PRODID:-//Tukios.com/
BEGIN:VEVENT
UID:bca6a666-3f4f-48a2-b621-e36687ca60b6@www.boronfuneralhome.com
DTSTAMP:20260424T215141Z
DTSTART:20260501T180000Z
DTEND:20260501T220000Z
SUMMARY:Public Viewing
DESCRIPTION:
URL:https://www.boronfuneralhome.com/obituaries/dawna-ortiz
LOCATION:Boron Funeral Home, Inc. 1719 Brownsville Road  Pittsburgh PA 
	15210
GEO:40.3979117;-79.9879509
END:VEVENT
END:VCALENDAR