BEGIN:VCALENDAR
VERSION:2.0
PRODID:-//Tukios.com/
BEGIN:VEVENT
UID:f6d999c5-e2c7-4f32-aecb-3bca96b69151@www.boronfuneralhome.com
DTSTAMP:20260424T215355Z
DTSTART:20260501T213000Z
DTEND:20260501T220000Z
SUMMARY:Viewing
DESCRIPTION:
URL:https://www.boronfuneralhome.com/obituaries/dawna-ortiz
LOCATION: 1719 Brownsville Rd  Pittsburgh PA 15210
GEO:40.3979117;-79.9879509
END:VEVENT
END:VCALENDAR